BEGIN:VCALENDAR
VERSION:2.0
PRODID:-//Tukios.com/
BEGIN:VEVENT
UID:4e171f82-178f-425c-9b90-3b309022bc94@www.piperfuneralhome.com
DTSTAMP:20260422T002854Z
DTSTART:20260428
SUMMARY:Burial
DESCRIPTION:
URL:https://www.piperfuneralhome.com/obituaries/joan-sebring
LOCATION: 21800 Mt Calvary Rd  Saint Marys KS 66536
GEO:39.2023081;-96.0661398
END:VEVENT
END:VCALENDAR