BEGIN:VCALENDAR
VERSION:2.0
PRODID:-//Tukios.com/
BEGIN:VEVENT
UID:bd4e3a12-d997-44bc-902d-389c3fea2e87@www.piperfuneralhome.com
DTSTAMP:20260422T003241Z
DTSTART:20260427T210000Z
DTEND:20260427T230000Z
SUMMARY:Visitation
DESCRIPTION:
URL:https://www.piperfuneralhome.com/obituaries/joan-sebring
LOCATION: 714 Maple St  St. Marys KS 66536
GEO:39.1986009;-96.0714523
END:VEVENT
END:VCALENDAR