BEGIN:VCALENDAR
VERSION:2.0
PRODID:-//Tukios.com/
BEGIN:VEVENT
UID:15a49bc1-d289-4cfe-9eac-7d9afb2101e8@www.piperfuneralhome.com
DTSTAMP:20260422T003102Z
DTSTART:20260427T230000Z
DTEND:20260427T231500Z
SUMMARY:Rosary
DESCRIPTION:
URL:https://www.piperfuneralhome.com/obituaries/joan-sebring
LOCATION: 714 Maple St  St. Marys KS 66536
GEO:39.1986009;-96.0714523
END:VEVENT
END:VCALENDAR