BEGIN:VCALENDAR
VERSION:2.0
PRODID:-//Tukios.com/
BEGIN:VEVENT
UID:2fab09f0-7974-4720-8651-bdaefafd6c46@www.piperfuneralhome.com
DTSTAMP:20260422T003728Z
DTSTART:20260428T150000Z
DTEND:20260428T160000Z
SUMMARY:Mass
DESCRIPTION:
URL:https://www.piperfuneralhome.com/obituaries/joan-sebring
LOCATION:Immaculate Conception Catholic Church 208 W. Bertrand Ave.  St. 
	Marys KS 66536
GEO:39.1918394;-96.0659973
END:VEVENT
END:VCALENDAR